BEGIN:VCALENDAR
VERSION:2.0
PRODID:-//hacksw/handcal//NONSGML v1.0//EN
BEGIN:VEVENT
SUMMARY:entrainement vacances minimes cadets juniors seniors
UID:7a3e6575-5402-4a6e-b8d6-4f322a9fb690
DTSTART:20260421T220000Z
DTEND:20260422T220000Z
LOCATION:Localisation   
CATEGORIES:Sportif
STATUS:
DESCRIPTION:<h1 style="text-align:center;"><span
 style="color:#8e44ad;">entrainement vacances minimes cadets juniors
 et seniors</span></h1>
 
 <h1 style="text-align:center;"><span
 style="color:#8e44ad;">mercredi 22 et mercredi 29
 avril</span></h1>
 
 <h1 style="text-align:center;">a cahors
 19h-21h</h1>
 
 <h1 style="text-align:center;"><span
 style="color:#2980b9;">avec auberge espagnole </span></h1>
 
 <h1
 style="text-align:center;"><span style="color:#2980b9;">(chacun
 apporte quelque chose et on partage
 tout)</span></h1>
 
 <p><strong><span
 style="color:#2980b9;">inscription obligatoire:</span></strong></p>
URL;VALUE=URI:https://www.judo-cahors.net/evenements/2026/04/22/entrainement-vacances-minimes-cadets-juniors-seniors-2443058
END:VEVENT
END:VCALENDAR
