BEGIN:VCALENDAR
VERSION:2.0
PRODID:-//hacksw/handcal//NONSGML v1.0//EN
BEGIN:VEVENT
SUMMARY:finale departementale jeunes !!
UID:92dc2b40-9dfb-47a6-a987-f243e778fce5
DTSTART:20260523T220000Z
DTEND:20260524T220000Z
LOCATION:Localisation   
CATEGORIES:Sportif
STATUS:
DESCRIPTION:<h1 style="text-align:center;"><strong>finale
 departementale jeunes </strong></h1>
 
 <h1
 style="text-align:center;"><strong>a cahors</strong></h1>
 
 <h1
 style="text-align:center;"><strong>le 24 mai
 2026</strong></h1>
 
 <p><strong>sur selection sur les 3 tournois
 departementaux qui ont eu lieux a Gordon, Cahors et
 Figeac.</strong></p>
 
 <p><strong>liste des qualifies bientot
 disponible</strong></p>
 
 <p><strong>horaires bientot
 disponibles</strong></p>
 
 <p> </p>
URL;VALUE=URI:https://www.judo-cahors.net/evenements/2026/05/24/finale-departementale-jeunes-2442225
END:VEVENT
END:VCALENDAR
